BEGIN:VCALENDAR
VERSION:2.0
PRODID:-//wp-events-plugin.com//7.2.3.1//EN
TZID:Europe/Berlin
X-WR-TIMEZONE:Europe/Berlin
BEGIN:VEVENT
UID:35@freak-team.de
DTSTART;TZID=Europe/Berlin:20241031T190000
DTEND;TZID=Europe/Berlin:20241031T234500
DTSTAMP:20240205T154252Z
URL:https://www.freak-team.de/events/zombieland-2024/
SUMMARY:ZOMBIELAND 2024
DESCRIPTION:Datum: 31.10.2024\nOrt: Kaiserslautern\nVenue: Kammgarn\nEinlas
 s: 19:00 Uhr\nBeginn: 20:00 Uhr\n\nSupport:\ntba\n\nFreie Platzwahl - Steh
 platz\n\n\n\n&nbsp\;\n[button link="https://www.haematom-shop.de/TICKETS/3
 1-10-2024-KAISERSLAUTERN-ZOMBIELAND-HARDTICKET::543.html" type="big" color
 ="red" newwindow="yes"] Tickets - Zombieland 2024[/button]
CATEGORIES:Konzerte
LOCATION:Kammgarn - Kaiserslautern\, Schoenstraße 10\, Kaiserslautern\, 67
 659 \, Deutschland
GEO:49.447357;7.756425
X-APPLE-STRUCTURED-LOCATION;VALUE=URI;X-ADDRESS=Schoenstraße 10\, Kaisersl
 autern\, 67659 \, Deutschland;X-APPLE-RADIUS=100;X-TITLE=Kammgarn - Kaiser
 slautern:geo:49.447357,7.756425
END:VEVENT
BEGIN:VTIMEZONE
TZID:Europe/Berlin
X-LIC-LOCATION:Europe/Berlin
BEGIN:STANDARD
DTSTART:20241027T020000
TZOFFSETFROM:+0200
TZOFFSETTO:+0100
TZNAME:CET
END:STANDARD
END:VTIMEZONE
END:VCALENDAR