BEGIN:VCALENDAR
VERSION:2.0
PRODID:-//wp-events-plugin.com//7.2.3.1//EN
TZID:Europe/Berlin
X-WR-TIMEZONE:Europe/Berlin
BEGIN:VEVENT
UID:19@freak-team.de
DTSTART;TZID=Europe/Berlin:20231021T190000
DTEND;TZID=Europe/Berlin:20231021T230000
DTSTAMP:20260417T130210Z
URL:https://www.freak-team.de/events/west-fest-legenden-sterben-nie/
SUMMARY:WEST-FEST (Legenden sterben nie)
DESCRIPTION:
CATEGORIES:Konzerte
LOCATION:Geiselwind - Eventhalle\, Scheinfelderstr. 15-23\, Geiselwind\, Ba
 yern\, 96160\, Deutschland
GEO:49.761621;10.463781
X-APPLE-STRUCTURED-LOCATION;VALUE=URI;X-ADDRESS=Scheinfelderstr. 15-23\, Ge
 iselwind\, Bayern\, 96160\, Deutschland;X-APPLE-RADIUS=100;X-TITLE=Geiselw
 ind - Eventhalle:geo:49.761621,10.463781
END:VEVENT
BEGIN:VTIMEZONE
TZID:Europe/Berlin
X-LIC-LOCATION:Europe/Berlin
BEGIN:DAYLIGHT
DTSTART:20230326T030000
TZOFFSETFROM:+0100
TZOFFSETTO:+0200
TZNAME:CEST
END:DAYLIGHT
END:VTIMEZONE
END:VCALENDAR