BEGIN:VCALENDAR
VERSION:2.0
PRODID:-//wp-events-plugin.com//7.2.3.1//EN
TZID:Europe/Berlin
X-WR-TIMEZONE:Europe/Berlin
BEGIN:VEVENT
UID:305@freak-team.de
DTSTART;TZID=Europe/Berlin:20260206T203000
DTEND;TZID=Europe/Berlin:20260206T230000
DTSTAMP:20260123T120005Z
URL:https://www.freak-team.de/events/stammtisch-2026-02-06/
SUMMARY:Stammtisch
DESCRIPTION:&nbsp\;\n\n&nbsp\;\n
CATEGORIES:Onlinemeeting
LOCATION:https://discord.gg/P3z9geMFPd
END:VEVENT
BEGIN:VTIMEZONE
TZID:Europe/Berlin
X-LIC-LOCATION:Europe/Berlin
BEGIN:STANDARD
DTSTART:20251026T020000
TZOFFSETFROM:+0200
TZOFFSETTO:+0100
TZNAME:CET
END:STANDARD
END:VTIMEZONE
END:VCALENDAR