BEGIN:VCALENDAR
VERSION:2.0
PRODID:-//wp-events-plugin.com//7.2.3.1//EN
TZID:Europe/Berlin
X-WR-TIMEZONE:Europe/Berlin
BEGIN:VEVENT
UID:32@freak-team.de
DTSTART;TZID=Europe/Berlin;VALUE=DATE:20240810
DTEND;TZID=Europe/Berlin;VALUE=DATE:20240812
DTSTAMP:20231229T155744Z
URL:https://www.freak-team.de/events/mera-luna/
SUMMARY:MERA LUNA
DESCRIPTION:mit VNV Nation\, Front 242\, Epica uvm.\nTickets: KLICK\nwww.m
 eraluna.de\n
CATEGORIES:Festival
LOCATION:Mera Luna\, Flugplatz Drispenstedt\, Hildesheim\, Niedersachsen\, 
 31137 \, Nord\, Deutschland
GEO:52.177223;9.95089
X-APPLE-STRUCTURED-LOCATION;VALUE=URI;X-ADDRESS=Flugplatz Drispenstedt\, Hi
 ldesheim\, Niedersachsen\, 31137 \, Nord\, Deutschland;X-APPLE-RADIUS=100;
 X-TITLE=Mera Luna:geo:52.177223,9.95089
END:VEVENT
BEGIN:VTIMEZONE
TZID:Europe/Berlin
X-LIC-LOCATION:Europe/Berlin
BEGIN:DAYLIGHT
DTSTART:20240331T030000
TZOFFSETFROM:+0100
TZOFFSETTO:+0200
TZNAME:CEST
END:DAYLIGHT
END:VTIMEZONE
END:VCALENDAR