BEGIN:VCALENDAR
VERSION:2.0
PRODID:-//wp-events-plugin.com//7.2.3.1//EN
TZID:Europe/Berlin
X-WR-TIMEZONE:Europe/Berlin
BEGIN:VEVENT
UID:14@freak-team.de
DTSTART;TZID=Europe/Berlin;VALUE=DATE:20240830
DTEND;TZID=Europe/Berlin;VALUE=DATE:20240901
DTSTAMP:20231209T172257Z
URL:https://www.freak-team.de/events/maskenball-20-jahre-haematom/
SUMMARY:"MASKENBALL" - 20 JAHRE HÄMATOM
DESCRIPTION:30. / 31.08.2024 - "MASKENBALL" - 20 JAHRE HÄMATOM\n\n[button 
 link="https://www.haematom-shop.de/TICKETS/30-31-08-2024-MASKENBALL-20-JAH
 RE-HAeMATOM-KOMBITICKET::286.html" type="big" color="red" newwindow="yes"]
  KOMBITICKET[/button]\n&nbsp\;\n[button link="https://www.masken-ball.de/i
 ndex.php/anfahrt-daemonentanz.html" type="big" color="orange" newwindow="y
 es"] aktuellsten Infos[/button]\n&nbsp\;\n\n\n\n\n
CATEGORIES:Festival
LOCATION:GELSENKIRCHEN - AMPHITHEATER\, Wallstrasse 52\, Gelsenkirchen\, No
 rdrhein-Westfalen\, 45899 \, Deutschland
GEO:51.525113;7.038541
X-APPLE-STRUCTURED-LOCATION;VALUE=URI;X-ADDRESS=Wallstrasse 52\, Gelsenkirc
 hen\, Nordrhein-Westfalen\, 45899 \, Deutschland;X-APPLE-RADIUS=100;X-TITL
 E=GELSENKIRCHEN - AMPHITHEATER:geo:51.525113,7.038541
END:VEVENT
BEGIN:VTIMEZONE
TZID:Europe/Berlin
X-LIC-LOCATION:Europe/Berlin
BEGIN:DAYLIGHT
DTSTART:20240331T030000
TZOFFSETFROM:+0100
TZOFFSETTO:+0200
TZNAME:CEST
END:DAYLIGHT
END:VTIMEZONE
END:VCALENDAR