BEGIN:VCALENDAR
VERSION:2.0
PRODID:-//wp-events-plugin.com//7.2.3.1//EN
TZID:Europe/Berlin
X-WR-TIMEZONE:Europe/Berlin
BEGIN:VEVENT
UID:42@freak-team.de
DTSTART;TZID=Europe/Berlin:20240712T180000
DTEND;TZID=Europe/Berlin:20240712T234500
DTSTAMP:20240711T095727Z
URL:https://www.freak-team.de/events/heimspiel/
SUMMARY:HEIMSPIEL
DESCRIPTION:Open Air am Stadtplatz\n\n\n\n\n\nHÄMATOM: Heimspiel\n\n\nKemn
 ath\, Stadtplatz\nStadtplatz 38\, 95478 Kemnath\n\n\n\n\n\n\n
CATEGORIES:Konzerte
LOCATION:Kemnath - Stadtplatz\, Stadtplatz 38\, Kemnath\, Bayern\, 95478 \,
  Deutschland
X-APPLE-STRUCTURED-LOCATION;VALUE=URI;X-ADDRESS=Stadtplatz 38\, Kemnath\, B
 ayern\, 95478 \, Deutschland;X-APPLE-RADIUS=100;X-TITLE=Kemnath - Stadtpla
 tz:geo:0,0
END:VEVENT
BEGIN:VTIMEZONE
TZID:Europe/Berlin
X-LIC-LOCATION:Europe/Berlin
BEGIN:DAYLIGHT
DTSTART:20240331T030000
TZOFFSETFROM:+0100
TZOFFSETTO:+0200
TZNAME:CEST
END:DAYLIGHT
END:VTIMEZONE
END:VCALENDAR