BEGIN:VCALENDAR
VERSION:2.0
PRODID:-//wp-events-plugin.com//7.2.3.1//EN
TZID:Europe/Berlin
X-WR-TIMEZONE:Europe/Berlin
BEGIN:VEVENT
UID:255@freak-team.de
DTSTART;TZID=Europe/Berlin;VALUE=DATE:20250802
DTEND;TZID=Europe/Berlin;VALUE=DATE:20250803
DTSTAMP:20250702T091549Z
URL:https://www.freak-team.de/events/goessnitz-open-air/
SUMMARY:GÖSSNITZ Open Air
DESCRIPTION:Datum: 02.08.2025\nOrt: Gössnitz Open Air\nVenue: Gössnitz Op
 en Air (Wehrstraße\, 04639 Gößnitz)\n\nEinlass: ?\n\nGäste: Subway to 
 Sally\, Schandmaul\, Warkings uvm.\nFreie Platzwahl – Stehplatz\n\nWeite
 r Infos: https://www.openairgoessnitz.de/
CATEGORIES:Festival
LOCATION:Gössnitz Open Air\, Wehrstraße\, Gößnitz\, 04639\, Deutschland
GEO:50.884967;12.429097
X-APPLE-STRUCTURED-LOCATION;VALUE=URI;X-ADDRESS=Wehrstraße\, Gößnitz\, 0
 4639\, Deutschland;X-APPLE-RADIUS=100;X-TITLE=Gössnitz Open Air:geo:50.88
 4967,12.429097
END:VEVENT
BEGIN:VTIMEZONE
TZID:Europe/Berlin
X-LIC-LOCATION:Europe/Berlin
BEGIN:DAYLIGHT
DTSTART:20250330T030000
TZOFFSETFROM:+0100
TZOFFSETTO:+0200
TZNAME:CEST
END:DAYLIGHT
END:VTIMEZONE
END:VCALENDAR