BEGIN:VCALENDAR
VERSION:2.0
PRODID:-//wp-events-plugin.com//7.2.3.1//EN
TZID:Europe/Berlin
X-WR-TIMEZONE:Europe/Berlin
BEGIN:VEVENT
UID:470@freak-team.de
DTSTART;TZID=Europe/Berlin:20260704T200000
DTEND;TZID=Europe/Berlin:20260704T233000
DTSTAMP:20260310T195325Z
URL:https://www.freak-team.de/events/garage-saarbruecken/
SUMMARY:Garage Saarbrücken
DESCRIPTION:Datum: 04.07.26\nOrt: Saarbrücken\nVenue:Garage\nEinlass: 19:0
 0 Uhr\nBeginn: 20:00 Uhr\nURL: https://garage-sb.de/veranstaltungen/haema
 tom-2/\nGäste: ????\nPlätze: Freie Platzwahl - Stehplatz\n\n
CATEGORIES:Auftritte,Konzerte
LOCATION:Garage Saarbrücken\, Bleicherstr. 11\, Saarbrücken\, 66111\, Deu
 tschland
GEO:49.237323;6.999046
X-APPLE-STRUCTURED-LOCATION;VALUE=URI;X-ADDRESS=Bleicherstr. 11\, Saarbrüc
 ken\, 66111\, Deutschland;X-APPLE-RADIUS=100;X-TITLE=Garage Saarbrücken:g
 eo:49.237323,6.999046
END:VEVENT
BEGIN:VTIMEZONE
TZID:Europe/Berlin
X-LIC-LOCATION:Europe/Berlin
BEGIN:DAYLIGHT
DTSTART:20260329T030000
TZOFFSETFROM:+0100
TZOFFSETTO:+0200
TZNAME:CEST
END:DAYLIGHT
END:VTIMEZONE
END:VCALENDAR