BEGIN:VCALENDAR
VERSION:2.0
PRODID:-//wp-events-plugin.com//7.2.3.1//EN
TZID:Europe/Berlin
X-WR-TIMEZONE:Europe/Berlin
BEGIN:VEVENT
UID:271@freak-team.de
DTSTART;TZID=Europe/Berlin:20261015T180000
DTEND;TZID=Europe/Berlin:20261015T224500
DTSTAMP:20250809T194441Z
URL:https://www.freak-team.de/events/gagamania-prag/
SUMMARY:Gagamania (Prag)
DESCRIPTION:Datum: 15.10.2026\nOrt: Prag\nVenue: Akropolis Prag (27\, Kubel
 íkova 1548\, 130 00 Praha 3\, Tschechien)\nBeginn: 18:00\n\nSpecial Guest
 :\n\n 	keine\n\nFreie Platzwahl - Stehplatz\n\n
CATEGORIES:Auftritte,Konzerte
LOCATION:Palac Akropolis Prag\, 27\, Kubelíkova 1548\, 130 00 Praha 3\, Ts
 chechische Republik
GEO:50.082277;14.448969
X-APPLE-STRUCTURED-LOCATION;VALUE=URI;X-ADDRESS=27\, Kubelíkova 1548\, 130
  00 Praha 3\, Tschechische Republik;X-APPLE-RADIUS=100;X-TITLE=Palac Akrop
 olis Prag:geo:50.082277,14.448969
END:VEVENT
BEGIN:VTIMEZONE
TZID:Europe/Berlin
X-LIC-LOCATION:Europe/Berlin
BEGIN:DAYLIGHT
DTSTART:20260329T030000
TZOFFSETFROM:+0100
TZOFFSETTO:+0200
TZNAME:CEST
END:DAYLIGHT
END:VTIMEZONE
END:VCALENDAR