BEGIN:VCALENDAR
VERSION:2.0
PRODID:-//wp-events-plugin.com//7.2.3.1//EN
TZID:Europe/Berlin
X-WR-TIMEZONE:Europe/Berlin
BEGIN:VEVENT
UID:7@freak-team.de
DTSTART;TZID=Europe/Berlin:20230330T193000
DTEND;TZID=Europe/Berlin:20230330T233000
DTSTAMP:20230205T123447Z
URL:https://www.freak-team.de/events/dymytry-haematom-cz-tour-2023-usti-na
 d-labem/
SUMMARY:Dymytry & Hämatom - CZ tour 2023 - Ústí nad Labem
DESCRIPTION:Special Guest to DYMYTRY\n\n&nbsp\;\n\n
CATEGORIES:Konzerte
END:VEVENT
BEGIN:VTIMEZONE
TZID:Europe/Berlin
X-LIC-LOCATION:Europe/Berlin
BEGIN:DAYLIGHT
DTSTART:20230326T030000
TZOFFSETFROM:+0100
TZOFFSETTO:+0200
TZNAME:CEST
END:DAYLIGHT
END:VTIMEZONE
END:VCALENDAR