BEGIN:VCALENDAR
VERSION:2.0
PRODID:-//wp-events-plugin.com//7.2.3.1//EN
TZID:Europe/Berlin
X-WR-TIMEZONE:Europe/Berlin
BEGIN:VEVENT
UID:10@freak-team.de
DTSTART;TZID=Europe/Berlin:20230407T190000
DTEND;TZID=Europe/Berlin:20230407T233000
DTSTAMP:20230205T125329Z
URL:https://www.freak-team.de/events/das-laute-abendmahl-2023/
SUMMARY:DAS LAUTE ABENDMAHL 2023
DESCRIPTION:\n\n\n\n&nbsp\;
CATEGORIES:Festival
LOCATION:Aladin Music Hall - Bremen\, Hannoversche Strasse 11\, Bremen\, Br
 emen\, 28309\, Deutschland
GEO:53.055677;8.88508
X-APPLE-STRUCTURED-LOCATION;VALUE=URI;X-ADDRESS=Hannoversche Strasse 11\, B
 remen\, Bremen\, 28309\, Deutschland;X-APPLE-RADIUS=100;X-TITLE=Aladin Mus
 ic Hall - Bremen:geo:53.055677,8.88508
END:VEVENT
BEGIN:VTIMEZONE
TZID:Europe/Berlin
X-LIC-LOCATION:Europe/Berlin
BEGIN:DAYLIGHT
DTSTART:20230326T030000
TZOFFSETFROM:+0100
TZOFFSETTO:+0200
TZNAME:CEST
END:DAYLIGHT
END:VTIMEZONE
END:VCALENDAR