BEGIN:VCALENDAR
VERSION:2.0
PRODID:-//wp-events-plugin.com//7.2.3.1//EN
TZID:Europe/Berlin
X-WR-TIMEZONE:Europe/Berlin
BEGIN:VEVENT
UID:265@freak-team.de
DTSTART;TZID=Europe/Berlin:20251228T180000
DTEND;TZID=Europe/Berlin:20251228T234500
DTSTAMP:20251228T132946Z
URL:https://www.freak-team.de/events/daemonentaenze-kiel/
SUMMARY:Dämonentänze (Kiel)
DESCRIPTION:Datum: 28.12.2025\nOrt: Kiel\nVenue: Traum GmbH (Grasweg 19–2
 1\, 24118 Kiel) ACHTUNG: Geänderte Location\nEinlass: 18:00\nBeginn: 19:0
 0\n\nSpecial Guest:\n\n 	Dymytry Paradox\n 	Fernando Express\n\n&nbsp\;\n\
 n
CATEGORIES:Auftritte,Konzerte
LOCATION:Traumfabrik Kiel\, Grasweg 19\, Kiel\, Schleswig-Holstein\, 24118 
 \, Schleswig-Holstein\, Deutschland
GEO:54.334962;10.116835
X-APPLE-STRUCTURED-LOCATION;VALUE=URI;X-ADDRESS=Grasweg 19\, Kiel\, Schlesw
 ig-Holstein\, 24118 \, Schleswig-Holstein\, Deutschland;X-APPLE-RADIUS=100
 ;X-TITLE=Traumfabrik Kiel:geo:54.334962,10.116835
END:VEVENT
BEGIN:VTIMEZONE
TZID:Europe/Berlin
X-LIC-LOCATION:Europe/Berlin
BEGIN:STANDARD
DTSTART:20251026T020000
TZOFFSETFROM:+0200
TZOFFSETTO:+0100
TZNAME:CET
END:STANDARD
END:VTIMEZONE
END:VCALENDAR