BEGIN:VCALENDAR
VERSION:2.0
PRODID:-//wp-events-plugin.com//7.2.3.1//EN
TZID:Europe/Berlin
X-WR-TIMEZONE:Europe/Berlin
BEGIN:VEVENT
UID:264@freak-team.de
DTSTART;TZID=Europe/Berlin:20251227T180000
DTEND;TZID=Europe/Berlin:20251227T234500
DTSTAMP:20250809T170025Z
URL:https://www.freak-team.de/events/daemonentaenze-dresden/
SUMMARY:Dämonentänze (Dresden)
DESCRIPTION:Datum: 27.12.2025\nOrt: Dresden\nVenue: Alter Schlachthof (Goth
 aer Str. 11\, 01097 Dresden)\n\nEinlass: 18:00\nBeginn: 19:00\n\nSpecial G
 uests:\n\n 	Dymytry Paradox\n 	Fernando Express\n\nFreie Platzwahl - Stehp
 latz\n\n
CATEGORIES:Auftritte,Konzerte
LOCATION:Alter Schlachthof\, Gothaer Str. 11\, Dresden\, 01097\, Deutschlan
 d
GEO:51.070161;13.733628
X-APPLE-STRUCTURED-LOCATION;VALUE=URI;X-ADDRESS=Gothaer Str. 11\, Dresden\,
  01097\, Deutschland;X-APPLE-RADIUS=100;X-TITLE=Alter Schlachthof:geo:51.0
 70161,13.733628
END:VEVENT
BEGIN:VTIMEZONE
TZID:Europe/Berlin
X-LIC-LOCATION:Europe/Berlin
BEGIN:STANDARD
DTSTART:20251026T020000
TZOFFSETFROM:+0200
TZOFFSETTO:+0100
TZNAME:CET
END:STANDARD
END:VTIMEZONE
END:VCALENDAR