BEGIN:VCALENDAR
VERSION:2.0
PRODID:-//wp-events-plugin.com//7.2.3.1//EN
TZID:Europe/Berlin
X-WR-TIMEZONE:Europe/Berlin
BEGIN:VEVENT
UID:268@freak-team.de
DTSTART;TZID=Europe/Berlin:20260109T200000
DTEND;TZID=Europe/Berlin:20260109T234500
DTSTAMP:20250809T201046Z
URL:https://www.freak-team.de/events/daemonentaenze-at-salzburg/
SUMMARY:Dämonentänze (AT-Salzburg)
DESCRIPTION:Datum: 09.01.2026\nOrt: Salzburg (AT)\nVenue: Rockhaus (Schallm
 ooser Hauptstrasse 46\, 5020 Salzburg)\nBeginn: 20:00\n\nSpecial Guest:\n\
 n 	Dymytry Paradox\n\n
CATEGORIES:Auftritte,Konzerte
LOCATION:Rockhouse Salzburg\, Schallmooser Hauptstraße 46\, Salzburg\, 502
 0\, Österreich
GEO:47.806941;13.05892
X-APPLE-STRUCTURED-LOCATION;VALUE=URI;X-ADDRESS=Schallmooser Hauptstraße 4
 6\, Salzburg\, 5020\, Österreich;X-APPLE-RADIUS=100;X-TITLE=Rockhouse Sal
 zburg:geo:47.806941,13.05892
END:VEVENT
BEGIN:VTIMEZONE
TZID:Europe/Berlin
X-LIC-LOCATION:Europe/Berlin
BEGIN:STANDARD
DTSTART:20251026T020000
TZOFFSETFROM:+0200
TZOFFSETTO:+0100
TZNAME:CET
END:STANDARD
END:VTIMEZONE
END:VCALENDAR