BEGIN:VCALENDAR
VERSION:2.0
PRODID:-//wp-events-plugin.com//7.2.3.1//EN
TZID:Europe/Berlin
X-WR-TIMEZONE:Europe/Berlin
BEGIN:VEVENT
UID:273@freak-team.de
DTSTART;TZID=Europe/Berlin:20261023T173000
DTEND;TZID=Europe/Berlin:20261023T234500
DTSTAMP:20250809T195251Z
URL:https://www.freak-team.de/events/7004/
SUMMARY:Gagamania (Oberhausen)
DESCRIPTION:Datum: 23.10.2026\nOrt: Oberhausen\nVenue: Turbinenhalle 1 (Im 
 Lipperfeld 23\, 46047 Oberhausen)\nEinlass: 17:30\nBeginn: 19:00\n\nSpecia
 l Guest:\n\n 	J.B.O.\n 	Anstandslos &amp\; Durchgeknallt\n\nFreie Platzwah
 l - Stehplatz\n\n
CATEGORIES:Auftritte,Konzerte
LOCATION:Turbinenhalle\,  Im Lipperfeld 23\, Oberhausen\, NRW\, 46047\, Deu
 tschland
GEO:51.483452;6.868495
X-APPLE-STRUCTURED-LOCATION;VALUE=URI;X-ADDRESS= Im Lipperfeld 23\, Oberhau
 sen\, NRW\, 46047\, Deutschland;X-APPLE-RADIUS=100;X-TITLE=Turbinenhalle:g
 eo:51.483452,6.868495
END:VEVENT
BEGIN:VTIMEZONE
TZID:Europe/Berlin
X-LIC-LOCATION:Europe/Berlin
BEGIN:DAYLIGHT
DTSTART:20260329T030000
TZOFFSETFROM:+0100
TZOFFSETTO:+0200
TZNAME:CEST
END:DAYLIGHT
END:VTIMEZONE
END:VCALENDAR