BEGIN:VCALENDAR
VERSION:2.0
PRODID:-//wp-events-plugin.com//7.2.3.1//EN
TZID:Europe/Berlin
X-WR-TIMEZONE:Europe/Berlin
BEGIN:VEVENT
UID:50@freak-team.de
DTSTART;TZID=Europe/Berlin:20250130T183000
DTEND;TZID=Europe/Berlin:20250130T203000
DTSTAMP:20241020T182210Z
URL:https://www.freak-team.de/events/20-jahre-fuer-euch-jubilaeumstour-pra
 g/
SUMMARY:20 Jahre Für Euch - Jubiläumstour - Prag
DESCRIPTION:Datum: 30.01.2025\nOrt: Prag (CZ)\nVenue: Palác Akropolis\nEin
 lass: ? Uhr\nBeginn: 18:30 Uhr\n\nSupport: ?\nFreie Platzwahl - Stehplatz\
 n\n
CATEGORIES:Konzerte
LOCATION:Palac Akropolis\, Kubelíkova 1548\, Praha 3-Žižkov\, 130 00\, T
 schechische Republik
GEO:50.082267;14.448934
X-APPLE-STRUCTURED-LOCATION;VALUE=URI;X-ADDRESS=Kubelíkova 1548\, Praha 3-
 Žižkov\, 130 00\, Tschechische Republik;X-APPLE-RADIUS=100;X-TITLE=Palac
  Akropolis:geo:50.082267,14.448934
END:VEVENT
BEGIN:VTIMEZONE
TZID:Europe/Berlin
X-LIC-LOCATION:Europe/Berlin
BEGIN:STANDARD
DTSTART:20241027T020000
TZOFFSETFROM:+0200
TZOFFSETTO:+0100
TZNAME:CET
END:STANDARD
END:VTIMEZONE
END:VCALENDAR