BEGIN:VCALENDAR
VERSION:2.0
PRODID:-//wp-events-plugin.com//7.2.3.1//EN
TZID:Europe/Berlin
X-WR-TIMEZONE:Europe/Berlin
BEGIN:VEVENT
UID:56@freak-team.de
DTSTART;TZID=Europe/Berlin:20250215T200000
DTEND;TZID=Europe/Berlin:20250215T220000
DTSTAMP:20241020T223010Z
URL:https://www.freak-team.de/events/20-jahre-fuer-euch-jubilaeumstour-gei
 selwind/
SUMMARY:20 Jahre Für Euch - Jubiläumstour - Geiselwind
DESCRIPTION:Datum: 15.02.2025\nOrt: Geiselwind\nVenue: Eventhalle\nEinlass:
  18:30 Uhr\nBeginn: 20:00 Uhr\n\nSupport: Engst &amp\; Focuspunkt\nFreie P
 latzwahl - Stehplatz\n\n
CATEGORIES:Konzerte
LOCATION:Geiselwind - Eventhalle\, Scheinfelderstr. 15-23\, Geiselwind\, Ba
 yern\, 96160\, Deutschland
GEO:49.761621;10.463781
X-APPLE-STRUCTURED-LOCATION;VALUE=URI;X-ADDRESS=Scheinfelderstr. 15-23\, Ge
 iselwind\, Bayern\, 96160\, Deutschland;X-APPLE-RADIUS=100;X-TITLE=Geiselw
 ind - Eventhalle:geo:49.761621,10.463781
END:VEVENT
BEGIN:VTIMEZONE
TZID:Europe/Berlin
X-LIC-LOCATION:Europe/Berlin
BEGIN:STANDARD
DTSTART:20241027T020000
TZOFFSETFROM:+0200
TZOFFSETTO:+0100
TZNAME:CET
END:STANDARD
END:VTIMEZONE
END:VCALENDAR